
BEGIN:VCALENDAR
VERSION:2.0
PRODID:-//School of Psychology Events - ECPv6.15.20//NONSGML v1.0//EN
CALSCALE:GREGORIAN
METHOD:PUBLISH
X-ORIGINAL-URL:https://psychology-events.sydney.edu.au
X-WR-CALDESC:Events for School of Psychology Events
REFRESH-INTERVAL;VALUE=DURATION:PT1H
X-Robots-Tag:noindex
X-PUBLISHED-TTL:PT1H
BEGIN:VTIMEZONE
TZID:Australia/Sydney
BEGIN:STANDARD
TZOFFSETFROM:+1100
TZOFFSETTO:+1000
TZNAME:AEST
DTSTART:20220402T160000
END:STANDARD
BEGIN:DAYLIGHT
TZOFFSETFROM:+1000
TZOFFSETTO:+1100
TZNAME:AEDT
DTSTART:20221001T160000
END:DAYLIGHT
BEGIN:STANDARD
TZOFFSETFROM:+1100
TZOFFSETTO:+1000
TZNAME:AEST
DTSTART:20230401T160000
END:STANDARD
BEGIN:DAYLIGHT
TZOFFSETFROM:+1000
TZOFFSETTO:+1100
TZNAME:AEDT
DTSTART:20230930T160000
END:DAYLIGHT
BEGIN:STANDARD
TZOFFSETFROM:+1100
TZOFFSETTO:+1000
TZNAME:AEST
DTSTART:20240406T160000
END:STANDARD
BEGIN:DAYLIGHT
TZOFFSETFROM:+1000
TZOFFSETTO:+1100
TZNAME:AEDT
DTSTART:20241005T160000
END:DAYLIGHT
END:VTIMEZONE
BEGIN:VEVENT
DTSTART;TZID=Australia/Sydney:20230405T120000
DTEND;TZID=Australia/Sydney:20230405T130000
DTSTAMP:20260424T080326
CREATED:20250507T045124Z
LAST-MODIFIED:20250507T045124Z
UID:98-1680696000-1680699600@psychology-events.sydney.edu.au
SUMMARY:Psychology Colloquium: Dr Lindsay Squeglia: Adolescent Alcohol and Cannabis Use: Using Neuroscience to Inform Treatment and Outreach
DESCRIPTION:Dr Lindsay Squeglia (Medical University of South Carolina)Abstract\nAdolescent alcohol and cannabis use is pervasive and affects the developing brain. Substance use prevention and treatment efforts are typically underutilized and only modestly effective. Utilizing neuroscience in prevention and treatment efforts can make tangible differences in substance use outcomes. Findings from recent neuroscience-informed adolescent substance use treatment interventions will be presented\, as well as promising results from a youth-focused\, neuroscience-based outreach and educational program.\nBiography\nDr. Squeglia is an Associate Professor at the Medical University of South Carolina\, co-Director of the Youth Collaborative\, and current Fulbright Scholar at University of Sydney. Her research focuses on: (1) understanding the effects of substance use on brain development and (2) using neuroscience to improve adolescent substance use disorder interventions.\nhttps://education.musc.edu/MUSCApps/facultydirectory/Squeglia-Lindsay
URL:https://psychology-events.sydney.edu.au/event/psychology-colloquium-dr-lindsay-squeglia-adolescent-alcohol-and-cannabis-use-using-neuroscience-to-inform-treatment-and-outreach/
END:VEVENT
BEGIN:VEVENT
DTSTART;TZID=Australia/Sydney:20230419T120000
DTEND;TZID=Australia/Sydney:20230419T130000
DTSTAMP:20260424T080326
CREATED:20250507T045139Z
LAST-MODIFIED:20250507T045139Z
UID:100-1681905600-1681909200@psychology-events.sydney.edu.au
SUMMARY:Psychology Colloquium: A/Prof Fiona Kumfor: The role of social cognition in neuropsychology
DESCRIPTION:A/Prof Fiona Kumfor (USYD)Abstract\nHistorically\, neuropsychologists have focused on examining traditional cognitive domains such as attention\, memory and visuospatial ability. However\, people with some neurological conditions can perform well on traditional neuropsychological tests\, despite having difficulties in everyday life. This is particularly the case in frontotemporal dementia\, where the earliest changes are in behaviour and personality. In this talk\, I will discuss the potential role of tests of social cognition in improving the diagnosis of frontotemporal dementia. I will also outline how social cognition impairment manifests in everyday life. Finally\, I will discuss how this work might be applied in other neurological conditions which are also characterised by changes in behaviour and personality.\nBio\nFiona Kumfor is an Associate Professor in the School of Psychology\, a NHMRC Career Development Fellow and a Clinical Neuropsychologist. Her work focuses on improving the diagnosis\, management and quality of life of people living with neurological conditions\, especially younger-onset dementia. She has published >90 papers and has received >$5.2M in funding. She is currently member-at-large for the International Neuropsychological Society and Vice-President of the Australasian Society for Social and Affective Neuroscience.
URL:https://psychology-events.sydney.edu.au/event/psychology-colloquium-a-prof-fiona-kumfor-the-role-of-social-cognition-in-neuropsychology/
END:VEVENT
BEGIN:VEVENT
DTSTART;TZID=Australia/Sydney:20230426T120000
DTEND;TZID=Australia/Sydney:20230426T130000
DTSTAMP:20260424T080326
CREATED:20250507T045139Z
LAST-MODIFIED:20250507T045139Z
UID:101-1682510400-1682514000@psychology-events.sydney.edu.au
SUMMARY:Psychology Colloquium: Ashleigh Morse & Iseult Cremen: Behavioural insights in practice: using evidence to improve the delivery of public services
DESCRIPTION:Ashleigh Morse & Iseult Cremen (NSW Department of Customer Service)\nAbstract\nPolicymakers in Australia and the world over are increasingly using evidence and data to guide policy decisions. The NSW Behavioural Insights Unit (BIU) partners with NSW Government agencies to use the latest evidence and data to help them deliver better services to citizens. We combine evidence from behavioural sciences and behavioural economics with the experience of service agencies and customers to identify and evaluate what works\, when and why to change behaviour. \nAshleigh Morse and Iseult Cremen from the NSW BIU will show how behavioural insights has been used to drive better customer experience and improved outcomes in key Government priorities over the past decade. Using case studies from the NSW Behavioural Insights Unit\, they will illustrate the evolution of behavioural insights from ‘nudges’ to data-driven solutions to support regulation and policy design.\nBios\nDr Ashleigh Morse is a Senior Behavioural Advisor in the NSW Behavioural Insights Unit\, where she has worked since March 2022. She completed her Bachelor of Psychology (Hons) at Sydney University in 2012\, and her PhD in behavioural neuroscience in 2017. In her PhD\, she investigated the role of delta-opioid receptors on cholinergic interneurons in the nucleus accumbens shell in mediating specific Pavlovian-Instrumental Transfer (PIT). She then worked as a postdoctoral researcher in the Wassum Lab at the University of California\, Los Angeles\, where she used optogenetics and activity-dependent gene expression techniques to locate specific reward memories in the basolateral amygdala. Ash left academia and spent two years working in the Sydney office of the Behavioural Insights Team\, where she learned to apply a range of research methods to public policy areas from education to justice. She then worked as a postdoctoral fellow at the Matilda Centre for Research in Substance Use and Mental Health (USyd) to develop a new model of care to help emergency services workers in NSW manage alcohol and other drug use.\nDr Iseult Cremen is a project manager at the NSW Behavioural Insights Unit (BIU). Iseult is currently leading the BIU’s work on Gender and Behavioural Insights. Prior to her role in the NSW Government\, Iseult worked as a behavioural science consultant and researcher at both The Behavioural Architects and The Behavioural Insights Team in Sydney\, working on a range of behavioural challenges with public sector clients. Iseult has led field experiments and research projects in the areas of gender and diversity\, transport\, energy and the environment\, industry and health.\nIseult has long been passionate about behaviour change for good using experimental and empirical research approaches. She holds a BA and a PhD in Psychology from Trinity College Dublin. Iseult chose to pursue a career in behavioural insights due to its applicability to real-world contexts and exploring outcomes using in-context evaluations.
URL:https://psychology-events.sydney.edu.au/event/psychology-colloquium-ashleigh-morse-iseult-cremen-behavioural-insights-in-practice-using-evidence-to-improve-the-delivery-of-public-services/
END:VEVENT
END:VCALENDAR