
BEGIN:VCALENDAR
VERSION:2.0
PRODID:-//School of Psychology Events - ECPv6.15.20//NONSGML v1.0//EN
CALSCALE:GREGORIAN
METHOD:PUBLISH
X-WR-CALNAME:School of Psychology Events
X-ORIGINAL-URL:https://psychology-events.sydney.edu.au
X-WR-CALDESC:Events for School of Psychology Events
REFRESH-INTERVAL;VALUE=DURATION:PT1H
X-Robots-Tag:noindex
X-PUBLISHED-TTL:PT1H
BEGIN:VTIMEZONE
TZID:Australia/Sydney
BEGIN:STANDARD
TZOFFSETFROM:+1100
TZOFFSETTO:+1000
TZNAME:AEST
DTSTART:20200404T160000
END:STANDARD
BEGIN:DAYLIGHT
TZOFFSETFROM:+1000
TZOFFSETTO:+1100
TZNAME:AEDT
DTSTART:20201003T160000
END:DAYLIGHT
BEGIN:STANDARD
TZOFFSETFROM:+1100
TZOFFSETTO:+1000
TZNAME:AEST
DTSTART:20210403T160000
END:STANDARD
BEGIN:DAYLIGHT
TZOFFSETFROM:+1000
TZOFFSETTO:+1100
TZNAME:AEDT
DTSTART:20211002T160000
END:DAYLIGHT
BEGIN:STANDARD
TZOFFSETFROM:+1100
TZOFFSETTO:+1000
TZNAME:AEST
DTSTART:20220402T160000
END:STANDARD
BEGIN:DAYLIGHT
TZOFFSETFROM:+1000
TZOFFSETTO:+1100
TZNAME:AEDT
DTSTART:20221001T160000
END:DAYLIGHT
END:VTIMEZONE
BEGIN:VEVENT
DTSTART;TZID=Australia/Sydney:20211029T150000
DTEND;TZID=Australia/Sydney:20211029T160000
DTSTAMP:20260424T000301
CREATED:20250507T044513Z
LAST-MODIFIED:20250507T044513Z
UID:68-1635519600-1635523200@psychology-events.sydney.edu.au
SUMMARY:Psychology Colloquium: Associate Professor Richard Ramsey (Department of Psychology – Macquarie University)
DESCRIPTION:Associate Professor Richard RamseyDepartment of Psychology – Macquarie University\nTitle: Perceiving and Interacting with Social Agents: Insights from Brain and Behaviour \nAbstract: The ability to perceive and interact with others typically occurs in an effortless manner\, but is underpinned by complex cognitive and neural processes. In this talk\, I review recent evidence from behavioural and brain imaging studies that uncover deeper insight into social cognition and brain function. Using examples from person perception and theory-of-mind paradigms\, as well as work investigating individual differences and loneliness\, I highlight the importance of considering distributed and connected brain circuits when aiming to understand how we perceive and interact with others in a social world.
URL:https://psychology-events.sydney.edu.au/event/psychology-colloquium-associate-professor-richard-ramsey-department-of-psychology-macquarie-university/
CATEGORIES:Colloquia
END:VEVENT
END:VCALENDAR