
BEGIN:VCALENDAR
VERSION:2.0
PRODID:-//School of Psychology Events - ECPv6.15.20//NONSGML v1.0//EN
CALSCALE:GREGORIAN
METHOD:PUBLISH
X-WR-CALNAME:School of Psychology Events
X-ORIGINAL-URL:https://psychology-events.sydney.edu.au
X-WR-CALDESC:Events for School of Psychology Events
REFRESH-INTERVAL;VALUE=DURATION:PT1H
X-Robots-Tag:noindex
X-PUBLISHED-TTL:PT1H
BEGIN:VTIMEZONE
TZID:Australia/Sydney
BEGIN:STANDARD
TZOFFSETFROM:+1100
TZOFFSETTO:+1000
TZNAME:AEST
DTSTART:20200404T160000
END:STANDARD
BEGIN:DAYLIGHT
TZOFFSETFROM:+1000
TZOFFSETTO:+1100
TZNAME:AEDT
DTSTART:20201003T160000
END:DAYLIGHT
BEGIN:STANDARD
TZOFFSETFROM:+1100
TZOFFSETTO:+1000
TZNAME:AEST
DTSTART:20210403T160000
END:STANDARD
BEGIN:DAYLIGHT
TZOFFSETFROM:+1000
TZOFFSETTO:+1100
TZNAME:AEDT
DTSTART:20211002T160000
END:DAYLIGHT
BEGIN:STANDARD
TZOFFSETFROM:+1100
TZOFFSETTO:+1000
TZNAME:AEST
DTSTART:20220402T160000
END:STANDARD
BEGIN:DAYLIGHT
TZOFFSETFROM:+1000
TZOFFSETTO:+1100
TZNAME:AEDT
DTSTART:20221001T160000
END:DAYLIGHT
END:VTIMEZONE
BEGIN:VEVENT
DTSTART;TZID=Australia/Sydney:20211022T150000
DTEND;TZID=Australia/Sydney:20211022T160000
DTSTAMP:20260424T031851
CREATED:20250507T044513Z
LAST-MODIFIED:20250507T044513Z
UID:67-1634914800-1634918400@psychology-events.sydney.edu.au
SUMMARY:The inaugural Professor Sally Andrews Lecture on Cognitive Psychology: Prof Frini Karayanidis (University of Newcastle)
DESCRIPTION:Prof Frini KarayanidisSchool of Psychological Sciences\, University of Newcastle\nTitle:\nCognitive control ability: An early warning signal?\nAbstract:\nCognitive control processes support goal-directed behaviour and flexible adaptation in response to changing contexts. These processes are enabled by prefrontal cortical regions and are sensitive to genetic\, biological and environmental impacts (e.g.\, age\, physical and mental health conditions\, substance use\, lifestyle choices). Cognitive control ability varies across the developmental lifespan\, and level of ability in early life is predictive of adaptive or maladaptive outcomes in adulthood. It has been suggested that cognitive control processes may be a sensitive early warning system of the need for intervention to prevent cascading effects of cognitive decline across multiple contexts and areas of functioning. However\, there are currently no approaches to reliably assess cognitive control trajectories and identify patterns of deviation. In this talk\, I argue that the task-switching paradigm may be a promising candidate as the “canary in the coalmine”. I briefly review our current understanding about the task-switching paradigm\, including the underlying cognitive control processes\, the link to prefrontal cortical function and the paradigm’s sensitivity to developmental trajectories\, clinical conditions and lifestyle variations. I outline our current work with this paradigm in healthy ageing and briefly touch on challenges ahead.\nPlease join us online at https://uni-sydney.zoom.us/j/83525864994 on Friday 22nd October at 3pm.
URL:https://psychology-events.sydney.edu.au/event/the-inaugural-professor-sally-andrews-lecture-on-cognitive-psychology-prof-frini-karayanidis-university-of-newcastle/
CATEGORIES:Colloquia
END:VEVENT
END:VCALENDAR