
BEGIN:VCALENDAR
VERSION:2.0
PRODID:-//School of Psychology Events - ECPv6.15.20//NONSGML v1.0//EN
CALSCALE:GREGORIAN
METHOD:PUBLISH
X-ORIGINAL-URL:https://psychology-events.sydney.edu.au
X-WR-CALDESC:Events for School of Psychology Events
REFRESH-INTERVAL;VALUE=DURATION:PT1H
X-Robots-Tag:noindex
X-PUBLISHED-TTL:PT1H
BEGIN:VTIMEZONE
TZID:Australia/Sydney
BEGIN:STANDARD
TZOFFSETFROM:+1100
TZOFFSETTO:+1000
TZNAME:AEST
DTSTART:20250405T160000
END:STANDARD
BEGIN:DAYLIGHT
TZOFFSETFROM:+1000
TZOFFSETTO:+1100
TZNAME:AEDT
DTSTART:20251004T160000
END:DAYLIGHT
BEGIN:STANDARD
TZOFFSETFROM:+1100
TZOFFSETTO:+1000
TZNAME:AEST
DTSTART:20260404T160000
END:STANDARD
BEGIN:DAYLIGHT
TZOFFSETFROM:+1000
TZOFFSETTO:+1100
TZNAME:AEDT
DTSTART:20261003T160000
END:DAYLIGHT
BEGIN:STANDARD
TZOFFSETFROM:+1100
TZOFFSETTO:+1000
TZNAME:AEST
DTSTART:20270403T160000
END:STANDARD
BEGIN:DAYLIGHT
TZOFFSETFROM:+1000
TZOFFSETTO:+1100
TZNAME:AEDT
DTSTART:20271002T160000
END:DAYLIGHT
END:VTIMEZONE
BEGIN:VEVENT
DTSTART;TZID=Australia/Sydney:20260320T150000
DTEND;TZID=Australia/Sydney:20260320T160000
DTSTAMP:20260426T032046
CREATED:20260202T224243Z
LAST-MODIFIED:20260315T234307Z
UID:325-1774018800-1774022400@psychology-events.sydney.edu.au
SUMMARY:Psychology Colloquium: Prof Phillippa Diedrichs (University of the West of England)
DESCRIPTION:Prof Phillippa Diedrichs (University of the West of England) \n\n\n\nTitle: Beyond journal articles: How research psychologists\, industry and civil society joined forces to reach 140 million young people with evidence-based body image interventions. \n\n\n\nAbstract: \n\n\n\nIndustries have long shaped body image\, appearance ideals\, and wellbeing\, yet a persistent gap remains between scientific discovery and real-world application. Brands and businesses struggle to access academic expertise and evidence-based tools; researchers\, meanwhile\, often lack the platforms\, resources\, connections\, and sometimes the confidence or appetite to translate their findings into practice. In the meantime\, young people continue to be shaped by appearance pressures that harm their health and curtail their relationships\, aspirations\, and opportunities. The solution lies not in more research alone\, but in a fundamentally different model of knowledge translation\, one built on disruptive innovation\, ethical industry partnerships\, and task-shifting to community-led delivery. \n\n\n\nDrawing on ten years of work spanning academia\, global brands\, civil society\, and policy\, this talk traces how evidence-based body image interventions were designed\, scaled\, and delivered to more than 140 million young people worldwide. It examines the realities of cross-sector collaboration candidly\, including the processes\, tensions\, and hard-won lessons\, so that researchers and practitioners can consider how similar approaches might strengthen the impact of their own work. \n\n\n\nBio: \n\n\n\nProfessor Phillippa Diedrichs\, PhD\, is a social scientist on a mission to create a world where no one is held back by how they look\, their gender or identity. She’s an internationally recognised psychologist\, researcher\, author\, and speaker specialising in body image\, mental health and inclusion. Phillippa is a Professor of Psychology at the Centre for Appearance Research\, UWE Bristol and founder of EVERYBODY Consulting\, partnering with brands like Dove\, Nike and Instagram to challenge beauty norms and drive social change. Her best-selling teen guide\, The Body Confidence Book\, is now published in five languages.
URL:https://psychology-events.sydney.edu.au/event/psychology-colloquium-prof-phillippa-diedrichs-university-of-the-west-of-england-tbc/
END:VEVENT
END:VCALENDAR