
BEGIN:VCALENDAR
VERSION:2.0
PRODID:-//School of Psychology Events - ECPv6.15.20//NONSGML v1.0//EN
CALSCALE:GREGORIAN
METHOD:PUBLISH
X-WR-CALNAME:School of Psychology Events
X-ORIGINAL-URL:https://psychology-events.sydney.edu.au
X-WR-CALDESC:Events for School of Psychology Events
REFRESH-INTERVAL;VALUE=DURATION:PT1H
X-Robots-Tag:noindex
X-PUBLISHED-TTL:PT1H
BEGIN:VTIMEZONE
TZID:Australia/Sydney
BEGIN:STANDARD
TZOFFSETFROM:+1100
TZOFFSETTO:+1000
TZNAME:AEST
DTSTART:20220402T160000
END:STANDARD
BEGIN:DAYLIGHT
TZOFFSETFROM:+1000
TZOFFSETTO:+1100
TZNAME:AEDT
DTSTART:20221001T160000
END:DAYLIGHT
BEGIN:STANDARD
TZOFFSETFROM:+1100
TZOFFSETTO:+1000
TZNAME:AEST
DTSTART:20230401T160000
END:STANDARD
BEGIN:DAYLIGHT
TZOFFSETFROM:+1000
TZOFFSETTO:+1100
TZNAME:AEDT
DTSTART:20230930T160000
END:DAYLIGHT
BEGIN:STANDARD
TZOFFSETFROM:+1100
TZOFFSETTO:+1000
TZNAME:AEST
DTSTART:20240406T160000
END:STANDARD
BEGIN:DAYLIGHT
TZOFFSETFROM:+1000
TZOFFSETTO:+1100
TZNAME:AEDT
DTSTART:20241005T160000
END:DAYLIGHT
END:VTIMEZONE
BEGIN:VEVENT
DTSTART;TZID=Australia/Sydney:20230524T120000
DTEND;TZID=Australia/Sydney:20230524T130000
DTSTAMP:20260425T093142
CREATED:20250507T045154Z
LAST-MODIFIED:20250507T045154Z
UID:105-1684929600-1684933200@psychology-events.sydney.edu.au
SUMMARY:Psychology Colloquium: Dr Nathan Holmes: How does the brain integrate sensory and emotional information?
DESCRIPTION:Dr Nathan Holmes (UNSW)\nAbstract\nAnimals and people integrate information acquired at different times when responding to novel situations or problems. For example\, after being attacked by a boy at school\, a child may become fearful of places where the boy had been previously encountered; and after learning the relationship between a particular sound and danger\, an animal may become fearful of places where it had previously heard that sound. In the laboratory\, this type of integration can be studied using sensory preconditioning protocols in which animals (rats) integrate innocuous sensory information acquired at time 1 (e.g.\, a sound is paired with a light) with emotional information acquired at time 2 (e.g.\, the light is paired with brief but aversive foot shock) and\, thus\, express fear to a stimulus that was never paired with danger at time 3 (e.g.\, the sound). The project that I will describe uses sensory preconditioning protocols to examine how the brain integrates sensory and emotional information. Specifically\, I will present a series of experiments which show that the way in which rats integrate sensory and emotional information depends on characteristics of the stimuli to which they are exposed (e.g.\, their familiarity) and has consequences for learning about the danger. These experiments are part of a larger research program which aims to advance our understanding of how fear is processed in the mammalian brain. The findings will be discussed with respect to this program and different theories of information processing.\nBio\nNathan Holmes is an Australian Research Council Future Fellow and Senior Scientia Lecturer in the School of Psychology at the University of New South Wales. He is interested in how the mammalian brain processes different types of information; and how motivational states\, like fear\, change the way the brain processes information. Specifically\, Nathan examines how fear influences the processing of innocuous information (e.g.\, the relation between a sound and a light); how fear spreads across a network of linked memories; and how an established fear memory is updated to include new information. The aim of his research is to develop a theory of how fear influences information processing in the brain\, with a particular focus on cells and circuits of the medial temporal lobe.
URL:https://psychology-events.sydney.edu.au/event/psychology-colloquium-dr-nathan-holmes-how-does-the-brain-integrate-sensory-and-emotional-information/
END:VEVENT
END:VCALENDAR