
BEGIN:VCALENDAR
VERSION:2.0
PRODID:-//School of Psychology Events - ECPv6.15.20//NONSGML v1.0//EN
CALSCALE:GREGORIAN
METHOD:PUBLISH
X-WR-CALNAME:School of Psychology Events
X-ORIGINAL-URL:https://psychology-events.sydney.edu.au
X-WR-CALDESC:Events for School of Psychology Events
REFRESH-INTERVAL;VALUE=DURATION:PT1H
X-Robots-Tag:noindex
X-PUBLISHED-TTL:PT1H
BEGIN:VTIMEZONE
TZID:Australia/Sydney
BEGIN:STANDARD
TZOFFSETFROM:+1100
TZOFFSETTO:+1000
TZNAME:AEST
DTSTART:20220402T160000
END:STANDARD
BEGIN:DAYLIGHT
TZOFFSETFROM:+1000
TZOFFSETTO:+1100
TZNAME:AEDT
DTSTART:20221001T160000
END:DAYLIGHT
BEGIN:STANDARD
TZOFFSETFROM:+1100
TZOFFSETTO:+1000
TZNAME:AEST
DTSTART:20230401T160000
END:STANDARD
BEGIN:DAYLIGHT
TZOFFSETFROM:+1000
TZOFFSETTO:+1100
TZNAME:AEDT
DTSTART:20230930T160000
END:DAYLIGHT
BEGIN:STANDARD
TZOFFSETFROM:+1100
TZOFFSETTO:+1000
TZNAME:AEST
DTSTART:20240406T160000
END:STANDARD
BEGIN:DAYLIGHT
TZOFFSETFROM:+1000
TZOFFSETTO:+1100
TZNAME:AEDT
DTSTART:20241005T160000
END:DAYLIGHT
END:VTIMEZONE
BEGIN:VEVENT
DTSTART;TZID=Australia/Sydney:20230419T120000
DTEND;TZID=Australia/Sydney:20230419T130000
DTSTAMP:20260424T225410
CREATED:20250507T045139Z
LAST-MODIFIED:20250507T045139Z
UID:100-1681905600-1681909200@psychology-events.sydney.edu.au
SUMMARY:Psychology Colloquium: A/Prof Fiona Kumfor: The role of social cognition in neuropsychology
DESCRIPTION:A/Prof Fiona Kumfor (USYD)Abstract\nHistorically\, neuropsychologists have focused on examining traditional cognitive domains such as attention\, memory and visuospatial ability. However\, people with some neurological conditions can perform well on traditional neuropsychological tests\, despite having difficulties in everyday life. This is particularly the case in frontotemporal dementia\, where the earliest changes are in behaviour and personality. In this talk\, I will discuss the potential role of tests of social cognition in improving the diagnosis of frontotemporal dementia. I will also outline how social cognition impairment manifests in everyday life. Finally\, I will discuss how this work might be applied in other neurological conditions which are also characterised by changes in behaviour and personality.\nBio\nFiona Kumfor is an Associate Professor in the School of Psychology\, a NHMRC Career Development Fellow and a Clinical Neuropsychologist. Her work focuses on improving the diagnosis\, management and quality of life of people living with neurological conditions\, especially younger-onset dementia. She has published >90 papers and has received >$5.2M in funding. She is currently member-at-large for the International Neuropsychological Society and Vice-President of the Australasian Society for Social and Affective Neuroscience.
URL:https://psychology-events.sydney.edu.au/event/psychology-colloquium-a-prof-fiona-kumfor-the-role-of-social-cognition-in-neuropsychology/
END:VEVENT
END:VCALENDAR