
BEGIN:VCALENDAR
VERSION:2.0
PRODID:-//School of Psychology Events - ECPv6.15.20//NONSGML v1.0//EN
CALSCALE:GREGORIAN
METHOD:PUBLISH
X-WR-CALNAME:School of Psychology Events
X-ORIGINAL-URL:https://psychology-events.sydney.edu.au
X-WR-CALDESC:Events for School of Psychology Events
REFRESH-INTERVAL;VALUE=DURATION:PT1H
X-Robots-Tag:noindex
X-PUBLISHED-TTL:PT1H
BEGIN:VTIMEZONE
TZID:Australia/Sydney
BEGIN:STANDARD
TZOFFSETFROM:+1100
TZOFFSETTO:+1000
TZNAME:AEST
DTSTART:20210403T160000
END:STANDARD
BEGIN:DAYLIGHT
TZOFFSETFROM:+1000
TZOFFSETTO:+1100
TZNAME:AEDT
DTSTART:20211002T160000
END:DAYLIGHT
BEGIN:STANDARD
TZOFFSETFROM:+1100
TZOFFSETTO:+1000
TZNAME:AEST
DTSTART:20220402T160000
END:STANDARD
BEGIN:DAYLIGHT
TZOFFSETFROM:+1000
TZOFFSETTO:+1100
TZNAME:AEDT
DTSTART:20221001T160000
END:DAYLIGHT
BEGIN:STANDARD
TZOFFSETFROM:+1100
TZOFFSETTO:+1000
TZNAME:AEST
DTSTART:20230401T160000
END:STANDARD
BEGIN:DAYLIGHT
TZOFFSETFROM:+1000
TZOFFSETTO:+1100
TZNAME:AEDT
DTSTART:20230930T160000
END:DAYLIGHT
END:VTIMEZONE
BEGIN:VEVENT
DTSTART;TZID=Australia/Sydney:20221028T150000
DTEND;TZID=Australia/Sydney:20221028T160000
DTSTAMP:20260423T182028
CREATED:20250507T045000Z
LAST-MODIFIED:20250507T045000Z
UID:92-1666969200-1666972800@psychology-events.sydney.edu.au
SUMMARY:Psychology Colloquium: The Sally Andrews Lecture on Cognitive Psychology. The magic of reading: How vision and language interact to transform inkmarks into ideas.  Dr Aaron Veldre\, University of Sydney & Macquarie University
DESCRIPTION:Dr Aaron Veldre\, Research Associate\, School of Psychology\, University of SydneyBio:\nDr Aaron Veldre is a postdoctoral research associate in the School of Psychology at The University of Sydney and the School of Psychological Sciences at Macquarie University. His research uses eye tracking\, computational modelling\, and behavioural paradigms to investigate the cognitive processes underlying language comprehension. He currently works on two ARC-funded projects investigating the coordination of vision\, attention\, and linguistic processing during online reading in younger and older adults\, and on the development of a complete computationally implemented model of reading.\nAbstract:\nReading is a remarkable acquired skill that is fundamental to educational and vocational success in modern societies. But it is a relatively recent cultural invention—writing systems have existed for less than 6000 years and literacy has only been a widespread skill for about 200 years. Reading is therefore not part of our genetic blueprint and relies on neural systems that evolved for other purposes. A complete theory of reading needs to describe how perceptual\, linguistic\, and oculomotor processes are precisely coordinated to support the rapid extraction of meaning from print. In this talk\, I will present evidence from a series of recent studies characterizing how readers allocate attention in the fovea and parafovea to identify words and decide when and where to move their eyes. I will also describe work investigating the impact of ageing that provides insight into the balance between perceptual and linguistic processes during reading.\nThis is a Hybrid event so you can join in person or via the Webinar link below:\nHEYDON LAURENCE LECTURE THEATRE 217 (DT ANDERSON) (You are encouraged to please wear a mask if attending in person)\nWebinar Link: https://uni-sydney.zoom.us/s/89638045313
URL:https://psychology-events.sydney.edu.au/event/psychology-colloquium-the-sally-andrews-lecture-on-cognitive-psychology-the-magic-of-reading-how-vision-and-language-interact-to-transform-inkmarks-into-ideas-dr-aaron-veldre-university-of-sydne/
END:VEVENT
END:VCALENDAR