
BEGIN:VCALENDAR
VERSION:2.0
PRODID:-//School of Psychology Events - ECPv6.15.20//NONSGML v1.0//EN
CALSCALE:GREGORIAN
METHOD:PUBLISH
X-ORIGINAL-URL:https://psychology-events.sydney.edu.au
X-WR-CALDESC:Events for School of Psychology Events
REFRESH-INTERVAL;VALUE=DURATION:PT1H
X-Robots-Tag:noindex
X-PUBLISHED-TTL:PT1H
BEGIN:VTIMEZONE
TZID:Australia/Sydney
BEGIN:STANDARD
TZOFFSETFROM:+1100
TZOFFSETTO:+1000
TZNAME:AEST
DTSTART:20210403T160000
END:STANDARD
BEGIN:DAYLIGHT
TZOFFSETFROM:+1000
TZOFFSETTO:+1100
TZNAME:AEDT
DTSTART:20211002T160000
END:DAYLIGHT
BEGIN:STANDARD
TZOFFSETFROM:+1100
TZOFFSETTO:+1000
TZNAME:AEST
DTSTART:20220402T160000
END:STANDARD
BEGIN:DAYLIGHT
TZOFFSETFROM:+1000
TZOFFSETTO:+1100
TZNAME:AEDT
DTSTART:20221001T160000
END:DAYLIGHT
BEGIN:STANDARD
TZOFFSETFROM:+1100
TZOFFSETTO:+1000
TZNAME:AEST
DTSTART:20230401T160000
END:STANDARD
BEGIN:DAYLIGHT
TZOFFSETFROM:+1000
TZOFFSETTO:+1100
TZNAME:AEDT
DTSTART:20230930T160000
END:DAYLIGHT
END:VTIMEZONE
BEGIN:VEVENT
DTSTART;TZID=Australia/Sydney:20221007T150000
DTEND;TZID=Australia/Sydney:20221007T160000
DTSTAMP:20260423T165308
CREATED:20250507T044758Z
LAST-MODIFIED:20250507T044758Z
UID:87-1665154800-1665158400@psychology-events.sydney.edu.au
SUMMARY:Psychology Colloquium:  Seeking signatures of perceptual experience in human visual cortex.  Sam Schwarzkopf\, University of Auckland
DESCRIPTION:Associate Professor Sam Schwarzkopf\, School of Optometry & Vision Science\, University of AucklandBio:\nSam did a neuroscience degree at Cardiff University and subsequently decided to stay there also to do his PhD with Frank Sengpiel where he used optical imaging to investigate experience-dependent plasticity of visual cortex. Subsequently\, he did a brief postdoc project at the University of Birmingham\, where he moved into human neuroimaging and cognitive neuroscience. In 2008\, he moved to University College London to postdoc with Geraint Rees and developed a research interest in individual differences. In 2012\, he was awarded a ERC Starting Grant and set up his own lab at UCL. In 2017\, he decided he had enough of Brexit\, crowds\, air pollution\, and the banana republic that the UK had become and moved to the School of Optometry & Vision Science at the University of Auckland\, New Zealand\, although he still maintains an active affiliation at UCL.\nOverview:\nIn this talk\, I will present the results of three studies using population receptive field (pRF) modelling to better understand how representations in human visual cortex generate our perceptual experience. First\, we estimated the neural signature of the famous Muller-Lyer illusion in V1 supporting a low-level explanation for this effect. Next\, we established that pRF sizes in visual cortex can be modulated by adaptation\, an effect that is consistent with behaviourally measured modulation of spatial frequency perception. Beyond visual object size\, this finding has implications for the perception of blur and recognising fine spatial detail. Finally\, we also used a novel data-driven method for estimating pRFs to map the retinotopic structure of the physiological blind spot in detail. We then used these maps to ask if there is a neural correlate of perceptual completion in early visual cortex.\n \nThis is a Hybrid event so you can join in person or via the Webinar link below:\nHEYDON LAURENCE LECTURE THEATRE 217 (DT ANDERSON) (You are encouraged to please wear a mask if attending in person)\nWebinar Link: https://uni-sydney.zoom.us/s/87579289391
URL:https://psychology-events.sydney.edu.au/event/psychology-colloquium-seeking-signatures-of-perceptual-experience-in-human-visual-cortex-sam-schwarzkopf-university-of-auckland/
END:VEVENT
END:VCALENDAR