
BEGIN:VCALENDAR
VERSION:2.0
PRODID:-//School of Psychology Events - ECPv6.15.20//NONSGML v1.0//EN
CALSCALE:GREGORIAN
METHOD:PUBLISH
X-ORIGINAL-URL:https://psychology-events.sydney.edu.au
X-WR-CALDESC:Events for School of Psychology Events
REFRESH-INTERVAL;VALUE=DURATION:PT1H
X-Robots-Tag:noindex
X-PUBLISHED-TTL:PT1H
BEGIN:VTIMEZONE
TZID:Australia/Sydney
BEGIN:STANDARD
TZOFFSETFROM:+1100
TZOFFSETTO:+1000
TZNAME:AEST
DTSTART:20210403T160000
END:STANDARD
BEGIN:DAYLIGHT
TZOFFSETFROM:+1000
TZOFFSETTO:+1100
TZNAME:AEDT
DTSTART:20211002T160000
END:DAYLIGHT
BEGIN:STANDARD
TZOFFSETFROM:+1100
TZOFFSETTO:+1000
TZNAME:AEST
DTSTART:20220402T160000
END:STANDARD
BEGIN:DAYLIGHT
TZOFFSETFROM:+1000
TZOFFSETTO:+1100
TZNAME:AEDT
DTSTART:20221001T160000
END:DAYLIGHT
BEGIN:STANDARD
TZOFFSETFROM:+1100
TZOFFSETTO:+1000
TZNAME:AEST
DTSTART:20230401T160000
END:STANDARD
BEGIN:DAYLIGHT
TZOFFSETFROM:+1000
TZOFFSETTO:+1100
TZNAME:AEDT
DTSTART:20230930T160000
END:DAYLIGHT
END:VTIMEZONE
BEGIN:VEVENT
DTSTART;TZID=Australia/Sydney:20220916T150000
DTEND;TZID=Australia/Sydney:20220916T160000
DTSTAMP:20260423T094030
CREATED:20250507T044742Z
LAST-MODIFIED:20250507T044742Z
UID:82-1663340400-1663344000@psychology-events.sydney.edu.au
SUMMARY:Psychology Colloquium: Visual Perception and Metacognition
DESCRIPTION:Prof. Derek Arnold\, University of QueenslandAbstract:\nWhen people make decisions\, they experience a level of confidence in relation to their decisions. In visual perception\, these levels of confidence are typically accurate – we tend to be more confident about decisions that are more precise. This insight into the quality of the information that has informed our decisions is known as metacognitive sensitivity. The most popular means of estimating metacognitive sensitivity is based on signal-detection-theory (SDT). In this talk\, I will explain why I believe SDT-based analyses of confidence are fundamentally flawed. I will also outline how measures of confidence can be used as a research tool\, to help distinguish between situations where perception has been changed and situations where people have merely been biased to reach different conclusions about perceptually ambiguous inputs.\nBio: \nProf. Derek Arnold studied at Macquarie University before taking up positions as a postdoctoral research fellow at University College London and the University of Sydney. He took up a continuing position at the University of Queensland in 2006. He has held a sequence of ARC funded research fellowships and Discovery Project funding. He has published in some of the world’s leading outlets for perceptual neuroscience\, including Nature\, PNAS\, Current Biology and Proceedings of the R. Soc. Lond. B. His’ research broadly focusses on visual perception\, with specific focuses on temporal perception and confidence in perceptual decisions.\nThis is a Hybrid event so you can join in person or via the Webinar link below:\nHEYDON LAURENCE LECTURE THEATRE 217 (DT ANDERSON) (You are encouraged to please wear a mask if attending in person)\nWebinar Link:  https://uni-sydney.zoom.us/s/83403319532
URL:https://psychology-events.sydney.edu.au/event/psychology-colloquium-visual-perception-and-metacognition/
END:VEVENT
END:VCALENDAR