
BEGIN:VCALENDAR
VERSION:2.0
PRODID:-//School of Psychology Events - ECPv6.15.20//NONSGML v1.0//EN
CALSCALE:GREGORIAN
METHOD:PUBLISH
X-WR-CALNAME:School of Psychology Events
X-ORIGINAL-URL:https://psychology-events.sydney.edu.au
X-WR-CALDESC:Events for School of Psychology Events
REFRESH-INTERVAL;VALUE=DURATION:PT1H
X-Robots-Tag:noindex
X-PUBLISHED-TTL:PT1H
BEGIN:VTIMEZONE
TZID:Australia/Sydney
BEGIN:STANDARD
TZOFFSETFROM:+1100
TZOFFSETTO:+1000
TZNAME:AEST
DTSTART:20210403T160000
END:STANDARD
BEGIN:DAYLIGHT
TZOFFSETFROM:+1000
TZOFFSETTO:+1100
TZNAME:AEDT
DTSTART:20211002T160000
END:DAYLIGHT
BEGIN:STANDARD
TZOFFSETFROM:+1100
TZOFFSETTO:+1000
TZNAME:AEST
DTSTART:20220402T160000
END:STANDARD
BEGIN:DAYLIGHT
TZOFFSETFROM:+1000
TZOFFSETTO:+1100
TZNAME:AEDT
DTSTART:20221001T160000
END:DAYLIGHT
BEGIN:STANDARD
TZOFFSETFROM:+1100
TZOFFSETTO:+1000
TZNAME:AEST
DTSTART:20230401T160000
END:STANDARD
BEGIN:DAYLIGHT
TZOFFSETFROM:+1000
TZOFFSETTO:+1100
TZNAME:AEDT
DTSTART:20230930T160000
END:DAYLIGHT
END:VTIMEZONE
BEGIN:VEVENT
DTSTART;TZID=Australia/Sydney:20220527T150000
DTEND;TZID=Australia/Sydney:20220527T160000
DTSTAMP:20260423T011631
CREATED:20250507T044728Z
LAST-MODIFIED:20250507T044728Z
UID:79-1653663600-1653667200@psychology-events.sydney.edu.au
SUMMARY:Psychology Colloquium: Expert Bias: Perceptions\, Misperceptions\, and Their Implications
DESCRIPTION:Tess Neal\, School of Social and Behavioral Sciences Arizona State University\nAbstract:\nDo experts assume that their expertise protects them from bias? One might hope and expect experts to be more protected than the average person against various psychological biases that affect judgment and decision making\, yet the evidence supporting this expectation of expert objectivity is mixed at best. Therefore\, this project answers the question: Do people have too much faith in the objectivity of expert judgment? Serious consequences might result from such an illusion of objectivity. We answer questions about experts’ susceptibility to bias as well as the accuracy of people’s (and especially experts’ own) perceptions of experts’ susceptibilities. Across multiple preregistered studies with different methods and in different decision domains\, we measure experts’ vulnerabilities to several biases\, document laypeople and experts’ blindness to experts’ biases\, and investigate the consequences of exaggerated confidence in experts’ objectivity for society. Theoretically-informed ideas for managing these problems will be discussed.\nBio:\nTess Neal is an associate professor of psychology at Arizona State University and a founding faculty member of ASU’s Law and Behavioral Science Initiative. She is a scientist\, a licensed clinical and forensic psychologist\, and a parent of two young children. She studies the nature and limits of expertise. Her basic work focuses on understanding and improving human judgment processes – especially among trained experts\, and her more applied work focuses on improving forensic experts’ judgments in particular. Her work has been funded by multiple grants from the National Science Foundation\, and she has been awarded numerous research and teaching awards. She serves as editor for the Journal of Personality Assessment and Psychology\, Public Policy\, and Law\, and as an Open Science Advisor for Clinical Psychological Science. She was selected as a Fulbright Scholar to work with Kristy Martire and others at UNSW Sydney for the Spring of 2022 on a project about how the different evidence laws of the U.S. and Australia lead to similar and different patterns of judicial decision making about psychological evidence\, with the potential to inform revisions to laws governing the admissibility of expert evidence in both countries. Website: https://psych-law.lab.asu.edu/\nWEBINAR LINK: https://uni-sydney.zoom.us/s/86430526873
URL:https://psychology-events.sydney.edu.au/event/psychology-colloquium-expert-bias-perceptions-misperceptions-and-their-implications/
END:VEVENT
END:VCALENDAR